BEGIN:VCALENDAR
VERSION:2.0
PRODID:-//NH Civics - ECPv6.13.2.1//NONSGML v1.0//EN
CALSCALE:GREGORIAN
METHOD:PUBLISH
X-WR-CALNAME:NH Civics
X-ORIGINAL-URL:https://www.nhcivics.org
X-WR-CALDESC:Events for NH Civics
REFRESH-INTERVAL;VALUE=DURATION:PT1H
X-Robots-Tag:noindex
X-PUBLISHED-TTL:PT1H
BEGIN:VTIMEZONE
TZID:America/New_York
BEGIN:DAYLIGHT
TZOFFSETFROM:-0500
TZOFFSETTO:-0400
TZNAME:EDT
DTSTART:20220313T070000
END:DAYLIGHT
BEGIN:STANDARD
TZOFFSETFROM:-0400
TZOFFSETTO:-0500
TZNAME:EST
DTSTART:20221106T060000
END:STANDARD
BEGIN:DAYLIGHT
TZOFFSETFROM:-0500
TZOFFSETTO:-0400
TZNAME:EDT
DTSTART:20230312T070000
END:DAYLIGHT
BEGIN:STANDARD
TZOFFSETFROM:-0400
TZOFFSETTO:-0500
TZNAME:EST
DTSTART:20231105T060000
END:STANDARD
END:VTIMEZONE
BEGIN:VEVENT
DTSTART;TZID=America/New_York:20230918T163000
DTEND;TZID=America/New_York:20230918T173000
DTSTAMP:20260425T120905
CREATED:20230819T144109Z
LAST-MODIFIED:20240201T230044Z
UID:3184-1695054600-1695058200@www.nhcivics.org
SUMMARY:Civics & Civility: A Conversation with Governor Chris Sununu
DESCRIPTION:“Civics & Civility: A Conversation with NH Governor Chris Sununu\,” a William W. Treat Lecture\, will be held on Monday\, September 18\, 2023\, at 4:30 p.m. at The Audi (Concord City Auditorium). Current and past participants on the NH’s Kid Governor® program will join the conversation\, which will be moderated by Laura Knoy\, former host of The Exchange on New Hampshire Public Radio.  Watch a recording of the event here.
URL:https://www.nhcivics.org/event/civics-civility-a-conversation-with-governor-chris-sununu/
LOCATION:The Audi\, 2 Prince Street\, Concord\, NH\, 03301\, United States
CATEGORIES:General Public,Treat Lecture
ATTACH;FMTTYPE=image/jpeg:https://www.nhcivics.org/wp-content/uploads/2023/08/civics-civility-flyer-sept-18-2023-e1693954082189.jpg
END:VEVENT
BEGIN:VEVENT
DTSTART;VALUE=DATE:20220816
DTEND;VALUE=DATE:20220817
DTSTAMP:20260425T120905
CREATED:20221213T155537Z
LAST-MODIFIED:20221213T155537Z
UID:2761-1660608000-1660694399@www.nhcivics.org
SUMMARY:NH’s Kid Governor Bootcamp
DESCRIPTION:NH’s Kid Governor Bootcamp for grade 5 teachers and media specialists. Registration is now open. This program offers a $100 stipend for participation in this award-winning\, learning standards-aligned program!  \nThe bootcamp will run in a hybrid format. \nTeachers are invited to join: \n1) In-person at the NH Institute of Politics at Saint Anselm College \nor \n2) Virtually over Zoom. \nThis will be a collaborative meeting to ask questions and share ideas. We hope you’ll join us! \nReigster by August 8th. \nFor those who are not ready to fully commit the the NH’s Kid Governor Program\, you are still welcome to join us for the Bootcamp to learn more! To do so -please contact\, NH’s Kid Governor Coordinator\, Luane Genest\, Luane.Genest@NH.KidGovernor.org. \nMon\, Aug 15\, 2022  10:00am – 12:00pm \nContact: Amanda Pawlik – amanda.pawlik@nhcivics.org \nRegister Here\n 
URL:https://www.nhcivics.org/event/nhs-kid-governor-bootcamp/
CATEGORIES:General Public
END:VEVENT
BEGIN:VEVENT
DTSTART;VALUE=DATE:20220415
DTEND;VALUE=DATE:20220504
DTSTAMP:20260425T120905
CREATED:20221213T162232Z
LAST-MODIFIED:20221213T162232Z
UID:2777-1649980800-1651622399@www.nhcivics.org
SUMMARY:Kids Against Climate Change Poster Contest
DESCRIPTION:A Poster Contest to Bring Awareness to the Climate Crisis\nFor NH 5th Grade Students\n  \nClimate change is a big deal\, it affects everyone and everything on Earth. Today there are things you can do to make a change in our lives. Charlotte Cotti\, the kid governor of NH and the kid executive council members have a challenge for you: Can you make a poster which shows things you can do to help reduce climate change? \nContest runs from April 15-May 3\, 2022.  \nContact: Amanda Pawlik – amanda.pawlik@nhcivics.org
URL:https://www.nhcivics.org/event/kids-against-climate-change-poster-contest/
CATEGORIES:General Public
ATTACH;FMTTYPE=image/jpeg:https://www.nhcivics.org/wp-content/uploads/2022/12/final_kids_against_climate_change_poster.jpg
END:VEVENT
BEGIN:VEVENT
DTSTART;TZID=America/New_York:20220210T183000
DTEND;TZID=America/New_York:20220210T200000
DTSTAMP:20260425T120905
CREATED:20221213T162656Z
LAST-MODIFIED:20221213T162714Z
UID:2780-1644517800-1644523200@www.nhcivics.org
SUMMARY:Renewing Trust in Democracy: The Role of the News Media
DESCRIPTION:Featuring:  \nCecilia Kang\, The New York Times  \nJoe McQuaid\, New Hampshire Union Leader \nMelanie Plenda\, Granite State News Collaborative   \nModerated by Anna Brown\, Citizens Count  \nWhat is the role of the news media in a democracy? In light of new technologies\, how can it continue to evolve to serve its essential function of informing “we the people”\, thereby restoring trust among voters? Is the traditional news media something we need to preserve\, or do we need a completely new model? What role does media literacy and civics education have to play? Join Cecilia Kang of The New York Times\, Joe McQuaid of New Hampshire Union Leader\, and Melanie Plenda of Granite State News Collaborative in this nonpartisan conversation. \n  \nPresenter Biographies: \nCecilia Kang \n \nCecilia Kang covers technology and regulation and joined The New York Times in 2015. She is the co-author\, along with Sheera Frenkel of The Times\, of “An Ugly Truth: Inside Facebook’s Battle for Domination.”  \nPreviously she was the senior technology correspondent for The Washington Post and was a staff writer at The San Jose Mercury News and Dow Jones. She is a 2018 recipient of the George Polk and Gerald Loeb Awards along with her Times colleagues for coverage of Facebook. \nJoe McQuaid \n \nCurrently editor at large for the Union Leader\, McQuaid is former publisher\, editor-in-chief\, and reporter for New Hampshire’s statewide daily and Sunday newspaper. A published author\, he is President of the Nackey S. Loeb School of Communications in Manchester. \nMelanie Plenda \n \nMelanie Plenda is the director of The Granite State News Collaborative\, a collective of more than 20 local media\, educational and community organizations across the state of New Hampshire. Melanie has more than 20 years of journalism experience. Her work has been published by the Associated Press\, The Atlantic\, The New Republic and numerous local and regional publications. \n  \nAnna Brown\, Moderator \n \nAnna is the Director of Research and Analysis for Citizens Count\, a nonprofit dedicated to providing unbiased information about New Hampshire policy issues and candidates.  She has been with the organization since 2011.  Anna is a regular contributor to NHPR\, Good Morning NH\, and other Granite State media outlets. She received her master’s degree in justice studies from the University of New Hampshire. \n  \n \nThis William W. Treat Lecture is presented in partnership with the Nackey S. Loeb School of Communications and The Warren B. Rudman Center at the UNH Franklin Pierce School of Law. \nAdditional partnership provided by Citizens Count\, the NH Institute of Politics at Saint Anselm College\, and the NH Supreme Court Society.  \n \nThe William W. Treat Lecture Series is made possible with support from New Hampshire Humanities\, in partnership with the National Endowment for the Humanities. Learn more at www.nhhumanities.org. \nContact: Amanda Pawlik – amanda.pawlik@nhcivics.org
URL:https://www.nhcivics.org/event/renewing-trust-in-democracy-the-role-of-the-news-media-2/
CATEGORIES:General Public
ATTACH;FMTTYPE=image/jpeg:https://www.nhcivics.org/wp-content/uploads/2022/12/pexels-madison-inouye-1577882.jpg
END:VEVENT
BEGIN:VEVENT
DTSTART;VALUE=DATE:20220126
DTEND;VALUE=DATE:20220127
DTSTAMP:20260425T120905
CREATED:20221213T162840Z
LAST-MODIFIED:20221213T162840Z
UID:2784-1643155200-1643241599@www.nhcivics.org
SUMMARY:A User's Guide to Democracy
DESCRIPTION:With Nick Capodice and Hannah McCarthy of the Civics 101 Podcast \nWednesday\, January 26th\, 2022 \n3:30-5:00 pm via Zoom \nFree Professional Development for teachers grades 7-12 \n  \nJoin Hannah McCarthy and Nick Capodice of New Hampshire Public Radio’s Civics 101 Podcast as they unveil their new book\, A User’s Guide to Democracy\, and share how teachers can use it in the classroom.  They will be joined by teachers Liz Melahn and Heather Monson\, who will present on how their classes created their own user’s guides to democracy. \n\nThe first 25 teachers to register and participate fully in this PD (attend webinar and commit to creating and testing a follow up lesson) will receive a free copy of A User’s Guide to Democracy. *** Register soon to take advantage of this offer -we have only a few spots left!*** \n  \n1.5 professional development hours available for attending this training with 8 hours\, $75 stipend\, and free copy of A User’s Guide to Democracy (available to first 25 who register) offered for full participation —pre-reading if assigned\, participation in webinar\, follow up lesson tested in your classroom and submitted to NH Civics by July 1\, 2022. \n  \nPresenter Biographies \n \nNick Capodice \nNick has been the co-host and Education Outreach Producer for Civics 101 since 2018\, where he creates episodes and works with teachers across the country to design lesson plans to pair with the show. He has presented to schools across the country on how to make podcasts in the classroom. \n  \nBefore that he worked in the Education Department at the Lower East Side Tenement Museum\, focusing on content creation and storytelling in a digital age. In his spare time he picks apples and plays country harmonica\, board games and trivia. \n\n \nHannah McCarthy \nHannah has been co-host of Civics 101 since 2018. Prior to that she worked as a producer and reporter at New Hampshire Public Radio\, concentrating on goings on at the State House and understanding the primer-level basics of New Hampshire’s state government. \n  \nPrior to her career at NHPR\, Hannah worked as a reporter and actor in Brooklyn\, NY. In another life she would’ve spent her days studying analytic philosophy and manages to sneak it into a Civics 101 episode whenever possible. \n  \n\nLiz Melahn \nLearning has always been (and will continue to be!) a vital part of Liz’ life; she began to fall in love with the study of history and government at a young age. Liz earned a BA in History from Colorado State University and has been teaching social studies at Polaris Expeditionary Learning School in Fort Collins\,CO since 2010. In May of 2020\, Liz completed her MA in American History through the Gilder Lehrman program at Pace University. At Polaris\, she teaches US History and American Government each year along with various rotating additional social studies courses including We the People\, World Geography\, American Sports History\, National Parks.\n\n\nLiz believes that the classroom should be a safe and welcoming place for students to ask questions and seek answers\, collaborate with teachers and peers\, practice unconventional and imaginative thinking\, grow as citizens and leaders\, and develop meaningful analytical and communication skills that will serve them for the rest of their life. Her favorite part about teaching is seeing students light up when they understand concepts\, make connections\, develop new lines of inquiry\, create work they are proud of\, and discover their own love of learning. When not in the classroom\, Liz can most likely be found at the ballpark cheering on the Rockies\, traversing trails on her mountain bike\, protecting her garden from Colorado’s ever-changing weather\, exploring the world\, or spending time with her partner\, Scott and their dog\, Chauncey.
URL:https://www.nhcivics.org/event/a-users-guide-to-democracy/
CATEGORIES:General Public
ATTACH;FMTTYPE=image/jpeg:https://www.nhcivics.org/wp-content/uploads/2022/12/users_guide_to_democracy_image-1.jpg
END:VEVENT
END:VCALENDAR