BEGIN:VCALENDAR
VERSION:2.0
PRODID:-//NH Civics - ECPv6.13.2.1//NONSGML v1.0//EN
CALSCALE:GREGORIAN
METHOD:PUBLISH
X-WR-CALNAME:NH Civics
X-ORIGINAL-URL:https://www.nhcivics.org
X-WR-CALDESC:Events for NH Civics
REFRESH-INTERVAL;VALUE=DURATION:PT1H
X-Robots-Tag:noindex
X-PUBLISHED-TTL:PT1H
BEGIN:VTIMEZONE
TZID:America/New_York
BEGIN:DAYLIGHT
TZOFFSETFROM:-0500
TZOFFSETTO:-0400
TZNAME:EDT
DTSTART:20250309T070000
END:DAYLIGHT
BEGIN:STANDARD
TZOFFSETFROM:-0400
TZOFFSETTO:-0500
TZNAME:EST
DTSTART:20251102T060000
END:STANDARD
BEGIN:DAYLIGHT
TZOFFSETFROM:-0500
TZOFFSETTO:-0400
TZNAME:EDT
DTSTART:20260308T070000
END:DAYLIGHT
BEGIN:STANDARD
TZOFFSETFROM:-0400
TZOFFSETTO:-0500
TZNAME:EST
DTSTART:20261101T060000
END:STANDARD
END:VTIMEZONE
BEGIN:VEVENT
DTSTART;TZID=America/New_York:20251029T130000
DTEND;TZID=America/New_York:20251029T140000
DTSTAMP:20260425T224717
CREATED:20250911T153723Z
LAST-MODIFIED:20260104T204551Z
UID:3809-1761742800-1761746400@www.nhcivics.org
SUMMARY:Treat Talk: How Curiosity Will Save Us
DESCRIPTION:WATCH ON NHPBS in January 2026! (see broadcast schedule)!\nJoin author and journalist Mónica Guzmán and five New Hampshire students for a virtual exploration of their experiences with curiosity\, bravery\, and civility in their conversations. Moderated by Anna Brown of Citizens Count and the Rudman Center at the UNH Franklin Pierce School of Law. \nWatch the event recording here\, courtesy of NHPBS.\n 
URL:https://www.nhcivics.org/event/how-curiosity-will-save-us/
ATTACH;FMTTYPE=image/jpeg:https://www.nhcivics.org/wp-content/uploads/2025/09/guzman-flyer-10.29.25-3.jpg
LOCATION:
END:VEVENT
BEGIN:VEVENT
DTSTART;TZID=America/New_York:20260312T110000
DTEND;TZID=America/New_York:20260312T120000
DTSTAMP:20260425T224717
CREATED:20260220T191840Z
LAST-MODIFIED:20260401T184248Z
UID:3880-1773313200-1773316800@www.nhcivics.org
SUMMARY:Treat Talk: KID POWER! with Marley Dias
DESCRIPTION:(Watch recording here) \nJoin NH Civics on Thursday\, March 12\, from 11:00-11:45 am EST for “Kid Power!” a virtual William W. Treat Talk with author and global change maker Marley Dias. She will be joined by 4th graders from Somersworth\, NH\, for a conversation on energizing youth to be active participants in our civic society and prepare to be future leaders. \n\nThe discussion will be live-streamed from the NHPBS studios in Durham and free registration is required at https://tinyurl.com/MarleyDias2026.\nThis event is made possible by the William W. Treat Foundation\, NHPBS\, McLane Middleton\, the Black Heritage Trail\,  and through a grant from NH Humanities\, with support from New Hampshire Charitable Foundation.
URL:https://www.nhcivics.org/event/treat-talk-kid-power-with-marley-dias/
ATTACH;FMTTYPE=image/jpeg:https://www.nhcivics.org/wp-content/uploads/2026/02/marley-dias-kid-power-flyer-3.12.26-5.jpg
LOCATION:
END:VEVENT
END:VCALENDAR